BEGIN:VCALENDAR
VERSION:2.0
PRODID:-//Downtown St. John&#039;s - ECPv6.1.3//NONSGML v1.0//EN
CALSCALE:GREGORIAN
METHOD:PUBLISH
X-ORIGINAL-URL:https://downtownstjohns.com
X-WR-CALDESC:Events for Downtown St. John&#039;s
REFRESH-INTERVAL;VALUE=DURATION:PT1H
X-Robots-Tag:noindex
X-PUBLISHED-TTL:PT1H
BEGIN:VTIMEZONE
TZID:America/St_Johns
BEGIN:DAYLIGHT
TZOFFSETFROM:-0330
TZOFFSETTO:-0230
TZNAME:NDT
DTSTART:20230312T053000
END:DAYLIGHT
BEGIN:STANDARD
TZOFFSETFROM:-0230
TZOFFSETTO:-0330
TZNAME:NST
DTSTART:20231105T043000
END:STANDARD
BEGIN:DAYLIGHT
TZOFFSETFROM:-0330
TZOFFSETTO:-0230
TZNAME:NDT
DTSTART:20240310T053000
END:DAYLIGHT
BEGIN:STANDARD
TZOFFSETFROM:-0230
TZOFFSETTO:-0330
TZNAME:NST
DTSTART:20241103T043000
END:STANDARD
END:VTIMEZONE
BEGIN:VEVENT
DTSTART;TZID=America/St_Johns:20240706T150000
DTEND;TZID=America/St_Johns:20240706T170000
DTSTAMP:20260425T200315
CREATED:20240619T180312Z
LAST-MODIFIED:20240619T180312Z
UID:10001430-1720278000-1720285200@downtownstjohns.com
SUMMARY:Music on Water
DESCRIPTION:The Downtown Pedestrian Mall (DPM) will open on June 20\, and will run until September 2\, 2024. Operating daily from noon until 10 p.m.\, Water Street from Adelaide Street to Prescott Street will transform into a bustling vehicle-free\, people-friendly zone. \nThe Downtown Pedestrian Mall will be enhanced with a variety of new activities\, including:   \n\nMusic on Water - The City is excited to host two concerts at the Downtown Pedestrian Mall this summer which will feature local musicians. Concerts will take place on July 6 and August 31 from 3 to 5 p.m. \nMarkets on Water - Every second Thursday from 6 to 8 p.m.\, starting July 4\, the Downtown Pedestrian Mall will host local vendors\, artists and makers from the St. John’s Farmer’s Market\, Craft Council of Newfoundland and Labrador\, IceberGallery and more.  There will also be a variety of food trucks.\nPublic Art - This summer\, enjoy vibrant public art by local visual artists displayed throughout the Downtown Pedestrian Mall.\n\nIn addition to the above initiatives and events\, there will be pop-up events each Friday throughout the summer showcasing local entertainers. The City also provides free space on the Downtown Pedestrian Mall for organizations to get creative and engage with the community. More information is available on the City’s Downtown Pedestrian Mall webpage. \n#LOVEDOWNTOWNSTJOHNS
URL:https://downtownstjohns.com/event/music-on-water/2024-07-06/
LOCATION:Solomon’s Lane at Water Street East\, St. John's\, NL\, Canada
CATEGORIES:Live Music
ATTACH;FMTTYPE=image/jpeg:https://downtownstjohns.com/wp-content/uploads/2021/09/outdoor-patio-water-st-e1718820164927.jpg
END:VEVENT
BEGIN:VEVENT
DTSTART;TZID=America/St_Johns:20240704T180000
DTEND;TZID=America/St_Johns:20240704T200000
DTSTAMP:20260425T200315
CREATED:20240619T181404Z
LAST-MODIFIED:20240619T181404Z
UID:10001432-1720116000-1720123200@downtownstjohns.com
SUMMARY:Markets on Water - Every second Thursday from 6 to 8 p.m.\, starting July 4
DESCRIPTION:Markets on Water - Every second Thursday from 6 to 8 p.m.\, starting July 4\, the Downtown Pedestrian Mall will host local vendors\, artists and makers from the St. John’s Farmer’s Market\, Craft Council of Newfoundland and Labrador\, IceberGallery and more.  There will also be a variety of food trucks. \nDates: \n\nThursday\, July 4\nThursday\, July 18\nThursday\, August 1\nThursday\, August 15\nThursday\, August 29
URL:https://downtownstjohns.com/event/markets-on-water-every-second-thursday-from-6-to-8-p-m-starting-july-4/2024-07-04/
LOCATION:Downtown Pedestrian Mall\, Water Street\, St. John's\, Canada
CATEGORIES:Market
ATTACH;FMTTYPE=image/jpeg:https://downtownstjohns.com/wp-content/uploads/2023/07/default-member.jpg
END:VEVENT
BEGIN:VEVENT
DTSTART;TZID=America/St_Johns:20231101T173000
DTEND;TZID=America/St_Johns:20231101T203000
DTSTAMP:20260425T200315
CREATED:20230925T133349Z
LAST-MODIFIED:20230925T133349Z
UID:10000712-1698859800-1698870600@downtownstjohns.com
SUMMARY:Pumpkin Walk at Bannerman Park
DESCRIPTION:Display your Jack-O’-Lantern (pumpkin) at Bannerman Park and participate in the annual Pumpkin Walk – a magnificent Halloween themed event that includes music with a live DJ and pop-up performances. A light source will be provided for your pumpkin.  \nThis is a free\, inclusive event. Everyone is welcome to come and admire the pumpkin display. It is not necessary to bring a pumpkin.  \n \nDetails\nWednesday\, November 1 \n5:30 to 8:30 p.m. \nBannerman Park \nRain date is Thursday\, November 2 \n\nSensory friendly hour: 5:30 – 6:30 p.m. (during sensory friendly hour there is no loud music or surprise performances).\nPumpkins will be placed on the ground along the perimeter of the Loop and lining the major pressed gravel paths throughout the park.  \nA light source will be provided for your pumpkin.  \nIn the spirit of reducing waste\, bring your own reusable mug for your FREE hot chocolate.  \n\n\nThis is an earth friendly event. Following the event\, all Pumpkins will be composted at Robin Hood Bay Regional Waste Management facility.\n\nAccessibility features\n\n\n\nAccessible parking spaces will be available in the main parking lot off Bannerman Road during the event.\nGender Neutral and accessible (portable) toilets will be available on site.\nSensory Friendly Hour is from 5:30 to 6:30 p.m.\, during this time there will be no loud music and no surprise performances. After 6:30 p.m. the event will feature Halloween themed music\, a live DJ and pop-up performances possibly including Zombies.\nGoBus drop-off and pick-up location is the sidewalk in front of the Bannerman Park Pool House on Bannerman Road. The GoBus must be booked in advance.\nThe Park lights will remain on throughout this event however lighting may be dim in the evening. Patrons are welcome to bring a flashlight.\nThe City of St. John’s strives to create accessible and inclusive programs and services where possible. To request accommodations\, learn more or provide feedback or suggestions\, please call 709 576 4450 or email inclusion@stjohns.ca\n\nPumpkin Drop-Off\nFrom 8 a.m. until 5:30 p.m. on November 1 you can drop off your pumpkin at Bannerman Park in advance. Following the event\, all Pumpkins will be composted at Robin Hood Bay Regional Waste Management facility to be used in future landscaping projects. \nNeighbourhood Watch  \n\nNeighbourhood Watch has been a part of Pumpkin Walk from the very start – it began as a Neighbourhood Watch event! \n\n\nThousands of the pumpkins are purchased and carved by the residents of St. John’s\, to greet trick-or-treaters\, and unfortunately many of these pumpkins are the target of vandalism after Halloween.  \n\n\nOver 50% of crimes reported around Halloween are crimes against property\, many of these crimes involve jack-o’-lanterns. \n\n\nBy bringing your pumpkin to Bannerman Park for Pumpkin Walk\, the opportunity for these crimes is reduced greatly. \n\n\nIf you want to join or build a Neighbourhood Watch in your neighbourhood – call Jennifer at 709-726-0180 or email neighbourhoodservices@stjohns.ca.\n\n  \n\n\n 
URL:https://downtownstjohns.com/event/pumpkin-walk-at-bannerman-park/
LOCATION:Bannerman Park\, St. John's
CATEGORIES:Other
ATTACH;FMTTYPE=image/jpeg:https://downtownstjohns.com/wp-content/uploads/2023/09/download.jpg
END:VEVENT
END:VCALENDAR