BEGIN:VCALENDAR
VERSION:2.0
PRODID:-//Downtown St. John&#039;s - ECPv6.1.3//NONSGML v1.0//EN
CALSCALE:GREGORIAN
METHOD:PUBLISH
X-WR-CALNAME:Downtown St. John&#039;s
X-ORIGINAL-URL:https://downtownstjohns.com
X-WR-CALDESC:Events for Downtown St. John&#039;s
REFRESH-INTERVAL;VALUE=DURATION:PT1H
X-Robots-Tag:noindex
X-PUBLISHED-TTL:PT1H
BEGIN:VTIMEZONE
TZID:America/St_Johns
BEGIN:DAYLIGHT
TZOFFSETFROM:-0330
TZOFFSETTO:-0230
TZNAME:NDT
DTSTART:20260308T053000
END:DAYLIGHT
BEGIN:STANDARD
TZOFFSETFROM:-0230
TZOFFSETTO:-0330
TZNAME:NST
DTSTART:20261101T043000
END:STANDARD
END:VTIMEZONE
BEGIN:VEVENT
DTSTART;TZID=America/St_Johns:20260409T190000
DTEND;TZID=America/St_Johns:20260409T203000
DTSTAMP:20260425T235949
CREATED:20260318T122640Z
LAST-MODIFIED:20260318T122640Z
UID:10004124-1775761200-1775766600@downtownstjohns.com
SUMMARY:Going Under: A New Canadian Musical
DESCRIPTION:Trapped on a subway car and stripped of their digital lifelines\, a group of high school seniors is forced to face more than just a mechanical failure. In this powerful Canadian ensemble musical\, graduation looms as the students are forced to confront the haunting tragedy that shattered their friendship four years ago. \nGoing Under explores disconnection and buried truths through a dynamic contemporary score. With its richly drawn\, relatable characters\, it is a compelling experience for high school and adult audiences alike. \nPerformed by Nomad Stages’ Senior Triple Threat class from Stephenville\, NL\, this production marks the ensemble’s exciting first tour.
URL:https://downtownstjohns.com/event/going-under-a-new-canadian-musical/
LOCATION:The Majestic Theatre\, 390 Duckworth Street\, St. John's\, Newfoundland and Labrador\, A1C 1H8\, Canada
CATEGORIES:Theatre
ATTACH;FMTTYPE=image/png:https://downtownstjohns.com/wp-content/uploads/2026/03/Going-Under-Poster-1-scaled.png
ORGANIZER;CN="Nomad%20Stages":MAILTO:info@nomadstages.com
END:VEVENT
END:VCALENDAR