BEGIN:VCALENDAR
VERSION:2.0
PRODID:-//Downtown St. John&#039;s - ECPv6.1.3//NONSGML v1.0//EN
CALSCALE:GREGORIAN
METHOD:PUBLISH
X-WR-CALNAME:Downtown St. John&#039;s
X-ORIGINAL-URL:https://downtownstjohns.com
X-WR-CALDESC:Events for Downtown St. John&#039;s
REFRESH-INTERVAL;VALUE=DURATION:PT1H
X-Robots-Tag:noindex
X-PUBLISHED-TTL:PT1H
BEGIN:VTIMEZONE
TZID:America/St_Johns
BEGIN:DAYLIGHT
TZOFFSETFROM:-0330
TZOFFSETTO:-0230
TZNAME:NDT
DTSTART:20260308T053000
END:DAYLIGHT
BEGIN:STANDARD
TZOFFSETFROM:-0230
TZOFFSETTO:-0330
TZNAME:NST
DTSTART:20261101T043000
END:STANDARD
END:VTIMEZONE
BEGIN:VEVENT
DTSTART;TZID=America/St_Johns:20260425T190000
DTEND;TZID=America/St_Johns:20260425T210000
DTSTAMP:20260425T101637
CREATED:20260408T134947Z
LAST-MODIFIED:20260408T141250Z
UID:10004143-1777143600-1777150800@downtownstjohns.com
SUMMARY:Rogues VS New England Kraken
DESCRIPTION:
URL:https://downtownstjohns.com/event/rogues-vs-new-england-kraken/2026-04-25/
LOCATION:Mary Browns Centre\, 50 New Gower Street\, St. John’s\, Newfoundland\, A1C 1J3\, Canada
CATEGORIES:Sporting
ATTACH;FMTTYPE=image/png:https://downtownstjohns.com/wp-content/uploads/2026/03/ABAS.png
END:VEVENT
BEGIN:VEVENT
DTSTART;TZID=America/St_Johns:20260426T143000
DTEND;TZID=America/St_Johns:20260426T170000
DTSTAMP:20260425T101637
CREATED:20260408T134616Z
LAST-MODIFIED:20260408T134616Z
UID:10004140-1777213800-1777222800@downtownstjohns.com
SUMMARY:FMX World Tour
DESCRIPTION:FMX World Tour\n\n\nSun\, Apr 26\, 2026 ⦁ 2:30pm\nMary Brown’s Centre\n\n\nExpect loud noises and thrilling excitement throughout the show! \nEach Pit Pass must have a ticket to the show or it is not valid. \nIf you wish to purchase Accessible Seating or to order tickets and use the Attendant Pass\, you will need to contact Mary Brown’s Centre Box Office to purchase (709)576-7657. These types of seats cannot be bought online and no refunds will be provided
URL:https://downtownstjohns.com/event/fmx-world-tour/
LOCATION:Mary Browns Centre\, 50 New Gower Street\, St. John’s\, Newfoundland\, A1C 1J3\, Canada
CATEGORIES:Sporting
END:VEVENT
BEGIN:VEVENT
DTSTART;TZID=America/St_Johns:20260502T200000
DTEND;TZID=America/St_Johns:20260502T230000
DTSTAMP:20260425T101637
CREATED:20260408T135542Z
LAST-MODIFIED:20260408T135542Z
UID:10004144-1777752000-1777762800@downtownstjohns.com
SUMMARY:Celtic Woman - A New Era
DESCRIPTION:CELTIC WOMAN – A NEW ERA\n\n\nSat\, May 2\, 2026 ⦁ 8:00pm\nMary Brown’s Centre
URL:https://downtownstjohns.com/event/celtic-woman-a-new-era/
LOCATION:Mary Browns Centre\, 50 New Gower Street\, St. John’s\, Newfoundland\, A1C 1J3\, Canada
CATEGORIES:Live Music
END:VEVENT
BEGIN:VEVENT
DTSTART;TZID=America/St_Johns:20260511T190000
DTEND;TZID=America/St_Johns:20260511T220000
DTSTAMP:20260425T101637
CREATED:20260408T135939Z
LAST-MODIFIED:20260408T135939Z
UID:10004145-1778526000-1778536800@downtownstjohns.com
SUMMARY:Three Days Grace - Alienation Tour
DESCRIPTION:Three Days Grace – Alienation Tour\n\n\n\n\n\n\nMon\, May 11\, 2026 ⦁ 7:00pm\nMary Brown’s Centre\n\n\nThere is no seating for tickets in the Pit on the floor. \nChoosing Best Available will give you Pit tickets with no seating until the Pit is sold out. \nIf you wish to purchase Accessible Seating or to order tickets and use the Attendant Pass\, you will need to contact Mary Brown’s Centre Box Office to purchase (709)576-7657. These types of seats cannot be bought online and no refunds will be provided.
URL:https://downtownstjohns.com/event/three-days-grace-alienation-tour/
LOCATION:Mary Browns Centre\, 50 New Gower Street\, St. John’s\, Newfoundland\, A1C 1J3\, Canada
CATEGORIES:Live Music
ATTACH;FMTTYPE=image/webp:https://downtownstjohns.com/wp-content/uploads/2026/04/logo-mary-browns-header.webp
END:VEVENT
END:VCALENDAR